BEGIN:VCALENDAR
VERSION:2.0
PRODID:-//Just In Time Campground - ECPv6.15.15//NONSGML v1.0//EN
CALSCALE:GREGORIAN
METHOD:PUBLISH
X-WR-CALNAME:Just In Time Campground
X-ORIGINAL-URL:https://justintime.camp
X-WR-CALDESC:Events for Just In Time Campground
REFRESH-INTERVAL;VALUE=DURATION:PT1H
X-Robots-Tag:noindex
X-PUBLISHED-TTL:PT1H
BEGIN:VTIMEZONE
TZID:UTC
BEGIN:STANDARD
TZOFFSETFROM:+0000
TZOFFSETTO:+0000
TZNAME:UTC
DTSTART:20220101T000000
END:STANDARD
END:VTIMEZONE
BEGIN:VEVENT
DTSTART;TZID=UTC:20230729T110000
DTEND;TZID=UTC:20230729T130000
DTSTAMP:20260425T150715
CREATED:20230517T204133Z
LAST-MODIFIED:20230517T204133Z
UID:10000152-1690628400-1690635600@justintime.camp
SUMMARY:Cookies With Santa - Christmas in July
DESCRIPTION:
URL:https://justintime.camp/event/cookies-with-santa-christmas-in-july/
LOCATION:Just In Time Campground\, 8421 E Pierce Road\, Ithaca\, MI\, 48847\, United States
ATTACH;FMTTYPE=image/jpeg:https://justintime.camp/wp-content/uploads/2023/05/JITC_Events_Cookies-with-santa.jpg
END:VEVENT
BEGIN:VEVENT
DTSTART;TZID=UTC:20230729T100000
DTEND;TZID=UTC:20230729T120000
DTSTAMP:20260425T150715
CREATED:20230517T194020Z
LAST-MODIFIED:20230717T162344Z
UID:10000014-1690624800-1690632000@justintime.camp
SUMMARY:Kids Crafts
DESCRIPTION:Located in the pavilion by the office
URL:https://justintime.camp/event/kids-crafts/2023-07-29/
LOCATION:Just In Time Campground\, 8421 E Pierce Road\, Ithaca\, MI\, 48847\, United States
ATTACH;FMTTYPE=image/jpeg:https://justintime.camp/wp-content/uploads/2023/05/JITC_Events_Kids-Crafts.jpg
END:VEVENT
BEGIN:VEVENT
DTSTART;VALUE=DATE:20230729
DTEND;VALUE=DATE:20230730
DTSTAMP:20260425T150715
CREATED:20230517T205559Z
LAST-MODIFIED:20230517T205559Z
UID:10000153-1690588800-1690675199@justintime.camp
SUMMARY:Lot Decorating Contest - Christmas in July
DESCRIPTION:
URL:https://justintime.camp/event/lot-decorating-contest-christmas-in-july/
LOCATION:Just In Time Campground\, 8421 E Pierce Road\, Ithaca\, MI\, 48847\, United States
ATTACH;FMTTYPE=image/jpeg:https://justintime.camp/wp-content/uploads/2023/05/JITC_Events_Lot-Decorating-Christmas-in-July.jpg
END:VEVENT
BEGIN:VEVENT
DTSTART;TZID=UTC:20230728T170000
DTEND;TZID=UTC:20230728T210000
DTSTAMP:20260425T150715
CREATED:20230717T163007Z
LAST-MODIFIED:20230717T163007Z
UID:10000177-1690563600-1690578000@justintime.camp
SUMMARY:Food Truck Friday
DESCRIPTION:
URL:https://justintime.camp/event/food-truck-friday/2023-07-28/
LOCATION:Just In Time Campground\, 8421 E Pierce Road\, Ithaca\, MI\, 48847\, United States
ATTACH;FMTTYPE=image/jpeg:https://justintime.camp/wp-content/uploads/2023/07/JITC_Events_Food-Truck-Fridays.jpg
END:VEVENT
BEGIN:VEVENT
DTSTART;TZID=UTC:20230722T180000
DTEND;TZID=UTC:20230722T190000
DTSTAMP:20260425T150715
CREATED:20230517T194510Z
LAST-MODIFIED:20230717T162217Z
UID:10000083-1690048800-1690052400@justintime.camp
SUMMARY:Train Rides
DESCRIPTION:Train loads in front of the office
URL:https://justintime.camp/event/train-rides/2023-07-22/
LOCATION:Just In Time Campground\, 8421 E Pierce Road\, Ithaca\, MI\, 48847\, United States
ATTACH;FMTTYPE=image/jpeg:https://justintime.camp/wp-content/uploads/2023/05/JITC_Events_Train-Rides.jpg
END:VEVENT
BEGIN:VEVENT
DTSTART;TZID=UTC:20230722T100000
DTEND;TZID=UTC:20230722T120000
DTSTAMP:20260425T150715
CREATED:20230517T194020Z
LAST-MODIFIED:20230717T162344Z
UID:10000013-1690020000-1690027200@justintime.camp
SUMMARY:Kids Crafts
DESCRIPTION:Located in the pavilion by the office
URL:https://justintime.camp/event/kids-crafts/2023-07-22/
LOCATION:Just In Time Campground\, 8421 E Pierce Road\, Ithaca\, MI\, 48847\, United States
ATTACH;FMTTYPE=image/jpeg:https://justintime.camp/wp-content/uploads/2023/05/JITC_Events_Kids-Crafts.jpg
END:VEVENT
BEGIN:VEVENT
DTSTART;TZID=UTC:20230721T170000
DTEND;TZID=UTC:20230721T210000
DTSTAMP:20260425T150715
CREATED:20230717T163007Z
LAST-MODIFIED:20230717T163007Z
UID:10000176-1689958800-1689973200@justintime.camp
SUMMARY:Food Truck Friday
DESCRIPTION:
URL:https://justintime.camp/event/food-truck-friday/2023-07-21/
LOCATION:Just In Time Campground\, 8421 E Pierce Road\, Ithaca\, MI\, 48847\, United States
ATTACH;FMTTYPE=image/jpeg:https://justintime.camp/wp-content/uploads/2023/07/JITC_Events_Food-Truck-Fridays.jpg
END:VEVENT
BEGIN:VEVENT
DTSTART;TZID=UTC:20230715T180000
DTEND;TZID=UTC:20230715T190000
DTSTAMP:20260425T150715
CREATED:20230517T194510Z
LAST-MODIFIED:20230717T162217Z
UID:10000082-1689444000-1689447600@justintime.camp
SUMMARY:Train Rides
DESCRIPTION:Train loads in front of the office
URL:https://justintime.camp/event/train-rides/2023-07-15/
LOCATION:Just In Time Campground\, 8421 E Pierce Road\, Ithaca\, MI\, 48847\, United States
ATTACH;FMTTYPE=image/jpeg:https://justintime.camp/wp-content/uploads/2023/05/JITC_Events_Train-Rides.jpg
END:VEVENT
BEGIN:VEVENT
DTSTART;TZID=UTC:20230715T100000
DTEND;TZID=UTC:20230715T120000
DTSTAMP:20260425T150715
CREATED:20230517T194020Z
LAST-MODIFIED:20230717T162344Z
UID:10000012-1689415200-1689422400@justintime.camp
SUMMARY:Kids Crafts
DESCRIPTION:Located in the pavilion by the office
URL:https://justintime.camp/event/kids-crafts/2023-07-15/
LOCATION:Just In Time Campground\, 8421 E Pierce Road\, Ithaca\, MI\, 48847\, United States
ATTACH;FMTTYPE=image/jpeg:https://justintime.camp/wp-content/uploads/2023/05/JITC_Events_Kids-Crafts.jpg
END:VEVENT
BEGIN:VEVENT
DTSTART;TZID=UTC:20230714T170000
DTEND;TZID=UTC:20230714T210000
DTSTAMP:20260425T150715
CREATED:20230717T163007Z
LAST-MODIFIED:20230717T163007Z
UID:10000175-1689354000-1689368400@justintime.camp
SUMMARY:Food Truck Friday
DESCRIPTION:
URL:https://justintime.camp/event/food-truck-friday/2023-07-14/
LOCATION:Just In Time Campground\, 8421 E Pierce Road\, Ithaca\, MI\, 48847\, United States
ATTACH;FMTTYPE=image/jpeg:https://justintime.camp/wp-content/uploads/2023/07/JITC_Events_Food-Truck-Fridays.jpg
END:VEVENT
BEGIN:VEVENT
DTSTART;TZID=UTC:20230708T190000
DTEND;TZID=UTC:20230708T230000
DTSTAMP:20260425T150715
CREATED:20230517T204020Z
LAST-MODIFIED:20230517T204020Z
UID:10000151-1688842800-1688857200@justintime.camp
SUMMARY:Live DJ - iPod Rod
DESCRIPTION:
URL:https://justintime.camp/event/live-dj-ipod-rod/
LOCATION:Just In Time Campground\, 8421 E Pierce Road\, Ithaca\, MI\, 48847\, United States
ATTACH;FMTTYPE=image/jpeg:https://justintime.camp/wp-content/uploads/2023/05/JITC_Events_DJ.jpg
END:VEVENT
BEGIN:VEVENT
DTSTART;TZID=UTC:20230708T180000
DTEND;TZID=UTC:20230708T190000
DTSTAMP:20260425T150715
CREATED:20230517T194510Z
LAST-MODIFIED:20230717T162217Z
UID:10000081-1688839200-1688842800@justintime.camp
SUMMARY:Train Rides
DESCRIPTION:Train loads in front of the office
URL:https://justintime.camp/event/train-rides/2023-07-08/
LOCATION:Just In Time Campground\, 8421 E Pierce Road\, Ithaca\, MI\, 48847\, United States
ATTACH;FMTTYPE=image/jpeg:https://justintime.camp/wp-content/uploads/2023/05/JITC_Events_Train-Rides.jpg
END:VEVENT
BEGIN:VEVENT
DTSTART;TZID=UTC:20230708T100000
DTEND;TZID=UTC:20230708T120000
DTSTAMP:20260425T150715
CREATED:20230517T194020Z
LAST-MODIFIED:20230717T162344Z
UID:10000011-1688810400-1688817600@justintime.camp
SUMMARY:Kids Crafts
DESCRIPTION:Located in the pavilion by the office
URL:https://justintime.camp/event/kids-crafts/2023-07-08/
LOCATION:Just In Time Campground\, 8421 E Pierce Road\, Ithaca\, MI\, 48847\, United States
ATTACH;FMTTYPE=image/jpeg:https://justintime.camp/wp-content/uploads/2023/05/JITC_Events_Kids-Crafts.jpg
END:VEVENT
BEGIN:VEVENT
DTSTART;TZID=UTC:20230707T170000
DTEND;TZID=UTC:20230707T210000
DTSTAMP:20260425T150715
CREATED:20230717T163007Z
LAST-MODIFIED:20230717T163007Z
UID:10000174-1688749200-1688763600@justintime.camp
SUMMARY:Food Truck Friday
DESCRIPTION:
URL:https://justintime.camp/event/food-truck-friday/2023-07-07/
LOCATION:Just In Time Campground\, 8421 E Pierce Road\, Ithaca\, MI\, 48847\, United States
ATTACH;FMTTYPE=image/jpeg:https://justintime.camp/wp-content/uploads/2023/07/JITC_Events_Food-Truck-Fridays.jpg
END:VEVENT
BEGIN:VEVENT
DTSTART;TZID=UTC:20230703T193000
DTEND;TZID=UTC:20230703T213000
DTSTAMP:20260425T150715
CREATED:20230517T203910Z
LAST-MODIFIED:20230517T203910Z
UID:10000150-1688412600-1688419800@justintime.camp
SUMMARY:Adult Scavenger Hunt - 4th of July Weekend
DESCRIPTION:
URL:https://justintime.camp/event/adult-scavenger-hunt-4th-of-july-weekend/
LOCATION:Just In Time Campground\, 8421 E Pierce Road\, Ithaca\, MI\, 48847\, United States
ATTACH;FMTTYPE=image/jpeg:https://justintime.camp/wp-content/uploads/2023/05/JITC_Events_Adult-Scavenger-Hunt.jpg
END:VEVENT
BEGIN:VEVENT
DTSTART;TZID=UTC:20230703T110000
DTEND;TZID=UTC:20230703T130000
DTSTAMP:20260425T150715
CREATED:20230517T203757Z
LAST-MODIFIED:20230517T203757Z
UID:10000149-1688382000-1688389200@justintime.camp
SUMMARY:Kids Scavenger Hunt - 4th of July Weekend
DESCRIPTION:
URL:https://justintime.camp/event/kids-scavenger-hunt-4th-of-july-weekend/
LOCATION:Just In Time Campground\, 8421 E Pierce Road\, Ithaca\, MI\, 48847\, United States
ATTACH;FMTTYPE=image/jpeg:https://justintime.camp/wp-content/uploads/2023/05/JITC_Events_Kids-Scavenger-Hunt.jpg
END:VEVENT
BEGIN:VEVENT
DTSTART;TZID=UTC:20230702T210000
DTEND;TZID=UTC:20230702T230000
DTSTAMP:20260425T150715
CREATED:20230517T203557Z
LAST-MODIFIED:20230517T203557Z
UID:10000148-1688331600-1688338800@justintime.camp
SUMMARY:Fireworks - 4th of July Weekend
DESCRIPTION:Fireworks at Dusk
URL:https://justintime.camp/event/fireworks-4th-of-july-weekend/
LOCATION:Just In Time Campground\, 8421 E Pierce Road\, Ithaca\, MI\, 48847\, United States
ATTACH;FMTTYPE=image/jpeg:https://justintime.camp/wp-content/uploads/2023/05/JITC_Events_Fireworks.jpg
END:VEVENT
BEGIN:VEVENT
DTSTART;TZID=UTC:20230702T130000
DTEND;TZID=UTC:20230702T150000
DTSTAMP:20260425T150715
CREATED:20230517T200924Z
LAST-MODIFIED:20230517T200957Z
UID:10000147-1688302800-1688310000@justintime.camp
SUMMARY:Adult Bean Bag Tournament - 4th of July Weekend
DESCRIPTION:$5 entry – sign up in office
URL:https://justintime.camp/event/adult-bean-bag-tournament-4th-of-july-weekend/
LOCATION:Just In Time Campground\, 8421 E Pierce Road\, Ithaca\, MI\, 48847\, United States
ATTACH;FMTTYPE=image/jpeg:https://justintime.camp/wp-content/uploads/2023/05/JITC_Events_Adult-Bean-Bag.jpg
END:VEVENT
BEGIN:VEVENT
DTSTART;TZID=UTC:20230702T110000
DTEND;TZID=UTC:20230702T130000
DTSTAMP:20260425T150715
CREATED:20230517T200708Z
LAST-MODIFIED:20230517T200708Z
UID:10000146-1688295600-1688302800@justintime.camp
SUMMARY:Kids Bike Parade - 4th of July Weekend
DESCRIPTION:
URL:https://justintime.camp/event/kids-bike-parade-4th-of-july-weekend/
LOCATION:Just In Time Campground\, 8421 E Pierce Road\, Ithaca\, MI\, 48847\, United States
ATTACH;FMTTYPE=image/jpeg:https://justintime.camp/wp-content/uploads/2023/05/JITC_Events_Kids-Bike-Parade.jpg
END:VEVENT
BEGIN:VEVENT
DTSTART;TZID=UTC:20230701T190000
DTEND;TZID=UTC:20230701T210000
DTSTAMP:20260425T150715
CREATED:20230517T185614Z
LAST-MODIFIED:20230517T200205Z
UID:10000004-1688238000-1688245200@justintime.camp
SUMMARY:Golf Cart Parade - 4th of July Weekend
DESCRIPTION:Prizes for best decorated
URL:https://justintime.camp/event/golf-cart-parade-4th-of-july-weekend/
LOCATION:Just In Time Campground\, 8421 E Pierce Road\, Ithaca\, MI\, 48847\, United States
ATTACH;FMTTYPE=image/jpeg:https://justintime.camp/wp-content/uploads/2023/05/JITC_Events_Golf-Cart-Parade-4th-of-July.jpg
END:VEVENT
BEGIN:VEVENT
DTSTART;TZID=UTC:20230701T180000
DTEND;TZID=UTC:20230701T190000
DTSTAMP:20260425T150715
CREATED:20230517T194510Z
LAST-MODIFIED:20230717T162217Z
UID:10000080-1688234400-1688238000@justintime.camp
SUMMARY:Train Rides
DESCRIPTION:Train loads in front of the office
URL:https://justintime.camp/event/train-rides/2023-07-01/
LOCATION:Just In Time Campground\, 8421 E Pierce Road\, Ithaca\, MI\, 48847\, United States
ATTACH;FMTTYPE=image/jpeg:https://justintime.camp/wp-content/uploads/2023/05/JITC_Events_Train-Rides.jpg
END:VEVENT
BEGIN:VEVENT
DTSTART;TZID=UTC:20230701T110000
DTEND;TZID=UTC:20230701T130000
DTSTAMP:20260425T150715
CREATED:20230517T185315Z
LAST-MODIFIED:20230517T200112Z
UID:10000003-1688209200-1688216400@justintime.camp
SUMMARY:Kids Bean Bag Tournament - 4th of July Weekend
DESCRIPTION:
URL:https://justintime.camp/event/kids-bean-bag-tournament-4th-of-july-weekend/
LOCATION:Just In Time Campground\, 8421 E Pierce Road\, Ithaca\, MI\, 48847\, United States
ATTACH;FMTTYPE=image/jpeg:https://justintime.camp/wp-content/uploads/2023/05/JITC_Events_Kids-Bean-Bag-4th-of-July.jpg
END:VEVENT
BEGIN:VEVENT
DTSTART;TZID=UTC:20230701T100000
DTEND;TZID=UTC:20230701T120000
DTSTAMP:20260425T150715
CREATED:20230517T194020Z
LAST-MODIFIED:20230717T162344Z
UID:10000010-1688205600-1688212800@justintime.camp
SUMMARY:Kids Crafts
DESCRIPTION:Located in the pavilion by the office
URL:https://justintime.camp/event/kids-crafts/2023-07-01/
LOCATION:Just In Time Campground\, 8421 E Pierce Road\, Ithaca\, MI\, 48847\, United States
ATTACH;FMTTYPE=image/jpeg:https://justintime.camp/wp-content/uploads/2023/05/JITC_Events_Kids-Crafts.jpg
END:VEVENT
BEGIN:VEVENT
DTSTART;TZID=UTC:20230630T170000
DTEND;TZID=UTC:20230630T210000
DTSTAMP:20260425T150715
CREATED:20230717T163007Z
LAST-MODIFIED:20230717T163007Z
UID:10000173-1688144400-1688158800@justintime.camp
SUMMARY:Food Truck Friday
DESCRIPTION:
URL:https://justintime.camp/event/food-truck-friday/2023-06-30/
LOCATION:Just In Time Campground\, 8421 E Pierce Road\, Ithaca\, MI\, 48847\, United States
ATTACH;FMTTYPE=image/jpeg:https://justintime.camp/wp-content/uploads/2023/07/JITC_Events_Food-Truck-Fridays.jpg
END:VEVENT
BEGIN:VEVENT
DTSTART;TZID=UTC:20230624T190000
DTEND;TZID=UTC:20230624T210000
DTSTAMP:20260425T150715
CREATED:20230517T184936Z
LAST-MODIFIED:20230517T200004Z
UID:10000002-1687633200-1687640400@justintime.camp
SUMMARY:Euchre Tournament
DESCRIPTION:$5 per player. Sign up in the office by 12:00 pm.
URL:https://justintime.camp/event/euchre-tournament/
LOCATION:Just In Time Campground\, 8421 E Pierce Road\, Ithaca\, MI\, 48847\, United States
ATTACH;FMTTYPE=image/jpeg:https://justintime.camp/wp-content/uploads/2023/05/JITC_Events_Euchre.jpg
END:VEVENT
BEGIN:VEVENT
DTSTART;TZID=UTC:20230624T180000
DTEND;TZID=UTC:20230624T190000
DTSTAMP:20260425T150715
CREATED:20230517T194510Z
LAST-MODIFIED:20230717T162217Z
UID:10000079-1687629600-1687633200@justintime.camp
SUMMARY:Train Rides
DESCRIPTION:Train loads in front of the office
URL:https://justintime.camp/event/train-rides/2023-06-24/
LOCATION:Just In Time Campground\, 8421 E Pierce Road\, Ithaca\, MI\, 48847\, United States
ATTACH;FMTTYPE=image/jpeg:https://justintime.camp/wp-content/uploads/2023/05/JITC_Events_Train-Rides.jpg
END:VEVENT
BEGIN:VEVENT
DTSTART;TZID=UTC:20230624T100000
DTEND;TZID=UTC:20230624T120000
DTSTAMP:20260425T150715
CREATED:20230517T194020Z
LAST-MODIFIED:20230717T162344Z
UID:10000009-1687600800-1687608000@justintime.camp
SUMMARY:Kids Crafts
DESCRIPTION:Located in the pavilion by the office
URL:https://justintime.camp/event/kids-crafts/2023-06-24/
LOCATION:Just In Time Campground\, 8421 E Pierce Road\, Ithaca\, MI\, 48847\, United States
ATTACH;FMTTYPE=image/jpeg:https://justintime.camp/wp-content/uploads/2023/05/JITC_Events_Kids-Crafts.jpg
END:VEVENT
BEGIN:VEVENT
DTSTART;TZID=UTC:20230623T170000
DTEND;TZID=UTC:20230623T210000
DTSTAMP:20260425T150715
CREATED:20230717T163007Z
LAST-MODIFIED:20230717T163007Z
UID:10000172-1687539600-1687554000@justintime.camp
SUMMARY:Food Truck Friday
DESCRIPTION:
URL:https://justintime.camp/event/food-truck-friday/2023-06-23/
LOCATION:Just In Time Campground\, 8421 E Pierce Road\, Ithaca\, MI\, 48847\, United States
ATTACH;FMTTYPE=image/jpeg:https://justintime.camp/wp-content/uploads/2023/07/JITC_Events_Food-Truck-Fridays.jpg
END:VEVENT
BEGIN:VEVENT
DTSTART;TZID=UTC:20230617T180000
DTEND;TZID=UTC:20230617T190000
DTSTAMP:20260425T150715
CREATED:20230517T194510Z
LAST-MODIFIED:20230717T162217Z
UID:10000078-1687024800-1687028400@justintime.camp
SUMMARY:Train Rides
DESCRIPTION:Train loads in front of the office
URL:https://justintime.camp/event/train-rides/2023-06-17/
LOCATION:Just In Time Campground\, 8421 E Pierce Road\, Ithaca\, MI\, 48847\, United States
ATTACH;FMTTYPE=image/jpeg:https://justintime.camp/wp-content/uploads/2023/05/JITC_Events_Train-Rides.jpg
END:VEVENT
BEGIN:VEVENT
DTSTART;TZID=UTC:20230617T113000
DTEND;TZID=UTC:20230617T150000
DTSTAMP:20260425T150715
CREATED:20230511T214032Z
LAST-MODIFIED:20230517T195747Z
UID:10000001-1687001400-1687014000@justintime.camp
SUMMARY:Fathers Day Weekend Fishing Tournament
DESCRIPTION:Prizes for the biggest fish and the most fish!
URL:https://justintime.camp/event/fathers-day-weekend-fishing-tournament/
LOCATION:Just In Time Campground\, 8421 E Pierce Road\, Ithaca\, MI\, 48847\, United States
ATTACH;FMTTYPE=image/jpeg:https://justintime.camp/wp-content/uploads/2023/05/JITC_Events_Fathers-Day-Fishing.jpg
END:VEVENT
END:VCALENDAR