BEGIN:VCALENDAR
VERSION:2.0
PRODID:-//Just In Time Campground - ECPv6.15.15//NONSGML v1.0//EN
CALSCALE:GREGORIAN
METHOD:PUBLISH
X-WR-CALNAME:Just In Time Campground
X-ORIGINAL-URL:https://justintime.camp
X-WR-CALDESC:Events for Just In Time Campground
REFRESH-INTERVAL;VALUE=DURATION:PT1H
X-Robots-Tag:noindex
X-PUBLISHED-TTL:PT1H
BEGIN:VTIMEZONE
TZID:UTC
BEGIN:STANDARD
TZOFFSETFROM:+0000
TZOFFSETTO:+0000
TZNAME:UTC
DTSTART:20220101T000000
END:STANDARD
END:VTIMEZONE
BEGIN:VEVENT
DTSTART;TZID=UTC:20230915T170000
DTEND;TZID=UTC:20230915T210000
DTSTAMP:20260425T104742
CREATED:20230717T163007Z
LAST-MODIFIED:20230717T163007Z
UID:10000184-1694797200-1694811600@justintime.camp
SUMMARY:Food Truck Friday
DESCRIPTION:
URL:https://justintime.camp/event/food-truck-friday/2023-09-15/
LOCATION:Just In Time Campground\, 8421 E Pierce Road\, Ithaca\, MI\, 48847\, United States
ATTACH;FMTTYPE=image/jpeg:https://justintime.camp/wp-content/uploads/2023/07/JITC_Events_Food-Truck-Fridays.jpg
END:VEVENT
BEGIN:VEVENT
DTSTART;TZID=UTC:20230909T180000
DTEND;TZID=UTC:20230909T190000
DTSTAMP:20260425T104742
CREATED:20230517T194510Z
LAST-MODIFIED:20230717T162217Z
UID:10000090-1694282400-1694286000@justintime.camp
SUMMARY:Train Rides
DESCRIPTION:Train loads in front of the office
URL:https://justintime.camp/event/train-rides/2023-09-09/
LOCATION:Just In Time Campground\, 8421 E Pierce Road\, Ithaca\, MI\, 48847\, United States
ATTACH;FMTTYPE=image/jpeg:https://justintime.camp/wp-content/uploads/2023/05/JITC_Events_Train-Rides.jpg
END:VEVENT
BEGIN:VEVENT
DTSTART;TZID=UTC:20230909T100000
DTEND;TZID=UTC:20230909T120000
DTSTAMP:20260425T104742
CREATED:20230517T194020Z
LAST-MODIFIED:20230717T162344Z
UID:10000020-1694253600-1694260800@justintime.camp
SUMMARY:Kids Crafts
DESCRIPTION:Located in the pavilion by the office
URL:https://justintime.camp/event/kids-crafts/2023-09-09/
LOCATION:Just In Time Campground\, 8421 E Pierce Road\, Ithaca\, MI\, 48847\, United States
ATTACH;FMTTYPE=image/jpeg:https://justintime.camp/wp-content/uploads/2023/05/JITC_Events_Kids-Crafts.jpg
END:VEVENT
BEGIN:VEVENT
DTSTART;TZID=UTC:20230908T170000
DTEND;TZID=UTC:20230908T210000
DTSTAMP:20260425T104742
CREATED:20230717T163007Z
LAST-MODIFIED:20230717T163007Z
UID:10000183-1694192400-1694206800@justintime.camp
SUMMARY:Food Truck Friday
DESCRIPTION:
URL:https://justintime.camp/event/food-truck-friday/2023-09-08/
LOCATION:Just In Time Campground\, 8421 E Pierce Road\, Ithaca\, MI\, 48847\, United States
ATTACH;FMTTYPE=image/jpeg:https://justintime.camp/wp-content/uploads/2023/07/JITC_Events_Food-Truck-Fridays.jpg
END:VEVENT
BEGIN:VEVENT
DTSTART;TZID=UTC:20230903T190000
DTEND;TZID=UTC:20230903T210000
DTSTAMP:20260425T104742
CREATED:20230517T211125Z
LAST-MODIFIED:20230717T154710Z
UID:10000161-1693767600-1693774800@justintime.camp
SUMMARY:Adult Bingo - Labor Day Weekend
DESCRIPTION:
URL:https://justintime.camp/event/adult-bingo-labor-day-weekend/
LOCATION:Just In Time Campground\, 8421 E Pierce Road\, Ithaca\, MI\, 48847\, United States
ATTACH;FMTTYPE=image/jpeg:https://justintime.camp/wp-content/uploads/2023/05/JITC_Events_Bingo-Labor-Day-Weekend.jpg
END:VEVENT
BEGIN:VEVENT
DTSTART;TZID=UTC:20230903T130000
DTEND;TZID=UTC:20230903T150000
DTSTAMP:20260425T104742
CREATED:20230517T210957Z
LAST-MODIFIED:20230517T210957Z
UID:10000160-1693746000-1693753200@justintime.camp
SUMMARY:Adult Bean Bag Tournament - Labor Day Weekend
DESCRIPTION:$5 entry – sign up in the office
URL:https://justintime.camp/event/adult-bean-bag-tournament-labor-day-weekend/
LOCATION:Just In Time Campground\, 8421 E Pierce Road\, Ithaca\, MI\, 48847\, United States
ATTACH;FMTTYPE=image/jpeg:https://justintime.camp/wp-content/uploads/2023/05/JITC_Events_Adult-Bean-Bag-Labor-Day-Weekend.jpg
END:VEVENT
BEGIN:VEVENT
DTSTART;TZID=UTC:20230902T193000
DTEND;TZID=UTC:20230902T213000
DTSTAMP:20260425T104742
CREATED:20230717T154618Z
LAST-MODIFIED:20230717T154618Z
UID:10000165-1693683000-1693690200@justintime.camp
SUMMARY:Kids Bingo - Labor Day Weekend
DESCRIPTION:
URL:https://justintime.camp/event/kids-bingo-labor-day-weekend/
LOCATION:Just In Time Campground\, 8421 E Pierce Road\, Ithaca\, MI\, 48847\, United States
ATTACH;FMTTYPE=image/jpeg:https://justintime.camp/wp-content/uploads/2023/05/JITC_Events_Golf-Cart-Parade-4th-of-July.jpg
END:VEVENT
BEGIN:VEVENT
DTSTART;TZID=UTC:20230902T180000
DTEND;TZID=UTC:20230902T190000
DTSTAMP:20260425T104742
CREATED:20230517T194510Z
LAST-MODIFIED:20230717T162217Z
UID:10000089-1693677600-1693681200@justintime.camp
SUMMARY:Train Rides
DESCRIPTION:Train loads in front of the office
URL:https://justintime.camp/event/train-rides/2023-09-02/
LOCATION:Just In Time Campground\, 8421 E Pierce Road\, Ithaca\, MI\, 48847\, United States
ATTACH;FMTTYPE=image/jpeg:https://justintime.camp/wp-content/uploads/2023/05/JITC_Events_Train-Rides.jpg
END:VEVENT
BEGIN:VEVENT
DTSTART;TZID=UTC:20230902T170000
DTEND;TZID=UTC:20230902T190000
DTSTAMP:20260425T104742
CREATED:20230517T210748Z
LAST-MODIFIED:20230517T210748Z
UID:10000159-1693674000-1693681200@justintime.camp
SUMMARY:Potluck - Labor Day Weekend
DESCRIPTION:Hot dogs and brats provided. Please bring a dish to pass.
URL:https://justintime.camp/event/potluck-labor-day-weekend/
LOCATION:Just In Time Campground\, 8421 E Pierce Road\, Ithaca\, MI\, 48847\, United States
ATTACH;FMTTYPE=image/jpeg:https://justintime.camp/wp-content/uploads/2023/05/JITC_Events_Potluck-Labor-Day-Weekend.jpg
END:VEVENT
BEGIN:VEVENT
DTSTART;TZID=UTC:20230902T110000
DTEND;TZID=UTC:20230902T130000
DTSTAMP:20260425T104742
CREATED:20230517T210609Z
LAST-MODIFIED:20230517T210609Z
UID:10000158-1693652400-1693659600@justintime.camp
SUMMARY:Kids Bean Bag Tournament - Labor Day Weekend
DESCRIPTION:
URL:https://justintime.camp/event/kids-bean-bag-tournament-labor-day-weekend/
LOCATION:Just In Time Campground\, 8421 E Pierce Road\, Ithaca\, MI\, 48847\, United States
ATTACH;FMTTYPE=image/jpeg:https://justintime.camp/wp-content/uploads/2023/05/JITC_Events_Kids-Bean-Bag-Labor-day-Weeked.jpg
END:VEVENT
BEGIN:VEVENT
DTSTART;TZID=UTC:20230902T100000
DTEND;TZID=UTC:20230902T120000
DTSTAMP:20260425T104742
CREATED:20230517T194020Z
LAST-MODIFIED:20230717T162344Z
UID:10000019-1693648800-1693656000@justintime.camp
SUMMARY:Kids Crafts
DESCRIPTION:Located in the pavilion by the office
URL:https://justintime.camp/event/kids-crafts/2023-09-02/
LOCATION:Just In Time Campground\, 8421 E Pierce Road\, Ithaca\, MI\, 48847\, United States
ATTACH;FMTTYPE=image/jpeg:https://justintime.camp/wp-content/uploads/2023/05/JITC_Events_Kids-Crafts.jpg
END:VEVENT
BEGIN:VEVENT
DTSTART;TZID=UTC:20230901T170000
DTEND;TZID=UTC:20230901T210000
DTSTAMP:20260425T104742
CREATED:20230717T163007Z
LAST-MODIFIED:20230717T163007Z
UID:10000182-1693587600-1693602000@justintime.camp
SUMMARY:Food Truck Friday
DESCRIPTION:
URL:https://justintime.camp/event/food-truck-friday/2023-09-01/
LOCATION:Just In Time Campground\, 8421 E Pierce Road\, Ithaca\, MI\, 48847\, United States
ATTACH;FMTTYPE=image/jpeg:https://justintime.camp/wp-content/uploads/2023/07/JITC_Events_Food-Truck-Fridays.jpg
END:VEVENT
BEGIN:VEVENT
DTSTART;TZID=UTC:20230826T180000
DTEND;TZID=UTC:20230826T190000
DTSTAMP:20260425T104742
CREATED:20230517T194510Z
LAST-MODIFIED:20230717T162217Z
UID:10000088-1693072800-1693076400@justintime.camp
SUMMARY:Train Rides
DESCRIPTION:Train loads in front of the office
URL:https://justintime.camp/event/train-rides/2023-08-26/
LOCATION:Just In Time Campground\, 8421 E Pierce Road\, Ithaca\, MI\, 48847\, United States
ATTACH;FMTTYPE=image/jpeg:https://justintime.camp/wp-content/uploads/2023/05/JITC_Events_Train-Rides.jpg
END:VEVENT
BEGIN:VEVENT
DTSTART;TZID=UTC:20230826T110000
DTEND;TZID=UTC:20230826T180000
DTSTAMP:20260425T104742
CREATED:20230517T210429Z
LAST-MODIFIED:20230517T210429Z
UID:10000157-1693047600-1693072800@justintime.camp
SUMMARY:Rib Cookoff
DESCRIPTION:Ribs on at 11:00 AM and grills off at 4:00 PM. Potluck at 5:00 PM. Please bring a dish to pass.
URL:https://justintime.camp/event/rib-cookoff/
LOCATION:Just In Time Campground\, 8421 E Pierce Road\, Ithaca\, MI\, 48847\, United States
ATTACH;FMTTYPE=image/jpeg:https://justintime.camp/wp-content/uploads/2023/05/JITC_Events_Rib-Cookoff.jpg
END:VEVENT
BEGIN:VEVENT
DTSTART;TZID=UTC:20230826T100000
DTEND;TZID=UTC:20230826T120000
DTSTAMP:20260425T104742
CREATED:20230517T194020Z
LAST-MODIFIED:20230717T162344Z
UID:10000018-1693044000-1693051200@justintime.camp
SUMMARY:Kids Crafts
DESCRIPTION:Located in the pavilion by the office
URL:https://justintime.camp/event/kids-crafts/2023-08-26/
LOCATION:Just In Time Campground\, 8421 E Pierce Road\, Ithaca\, MI\, 48847\, United States
ATTACH;FMTTYPE=image/jpeg:https://justintime.camp/wp-content/uploads/2023/05/JITC_Events_Kids-Crafts.jpg
END:VEVENT
BEGIN:VEVENT
DTSTART;TZID=UTC:20230825T170000
DTEND;TZID=UTC:20230825T210000
DTSTAMP:20260425T104742
CREATED:20230717T163007Z
LAST-MODIFIED:20230717T163007Z
UID:10000181-1692982800-1692997200@justintime.camp
SUMMARY:Food Truck Friday
DESCRIPTION:
URL:https://justintime.camp/event/food-truck-friday/2023-08-25/
LOCATION:Just In Time Campground\, 8421 E Pierce Road\, Ithaca\, MI\, 48847\, United States
ATTACH;FMTTYPE=image/jpeg:https://justintime.camp/wp-content/uploads/2023/07/JITC_Events_Food-Truck-Fridays.jpg
END:VEVENT
BEGIN:VEVENT
DTSTART;TZID=UTC:20230819T180000
DTEND;TZID=UTC:20230819T190000
DTSTAMP:20260425T104742
CREATED:20230517T194510Z
LAST-MODIFIED:20230717T162217Z
UID:10000087-1692468000-1692471600@justintime.camp
SUMMARY:Train Rides
DESCRIPTION:Train loads in front of the office
URL:https://justintime.camp/event/train-rides/2023-08-19/
LOCATION:Just In Time Campground\, 8421 E Pierce Road\, Ithaca\, MI\, 48847\, United States
ATTACH;FMTTYPE=image/jpeg:https://justintime.camp/wp-content/uploads/2023/05/JITC_Events_Train-Rides.jpg
END:VEVENT
BEGIN:VEVENT
DTSTART;TZID=UTC:20230819T100000
DTEND;TZID=UTC:20230819T120000
DTSTAMP:20260425T104742
CREATED:20230517T194020Z
LAST-MODIFIED:20230717T162344Z
UID:10000017-1692439200-1692446400@justintime.camp
SUMMARY:Kids Crafts
DESCRIPTION:Located in the pavilion by the office
URL:https://justintime.camp/event/kids-crafts/2023-08-19/
LOCATION:Just In Time Campground\, 8421 E Pierce Road\, Ithaca\, MI\, 48847\, United States
ATTACH;FMTTYPE=image/jpeg:https://justintime.camp/wp-content/uploads/2023/05/JITC_Events_Kids-Crafts.jpg
END:VEVENT
BEGIN:VEVENT
DTSTART;TZID=UTC:20230818T170000
DTEND;TZID=UTC:20230818T210000
DTSTAMP:20260425T104742
CREATED:20230717T163007Z
LAST-MODIFIED:20230717T163007Z
UID:10000180-1692378000-1692392400@justintime.camp
SUMMARY:Food Truck Friday
DESCRIPTION:
URL:https://justintime.camp/event/food-truck-friday/2023-08-18/
LOCATION:Just In Time Campground\, 8421 E Pierce Road\, Ithaca\, MI\, 48847\, United States
ATTACH;FMTTYPE=image/jpeg:https://justintime.camp/wp-content/uploads/2023/07/JITC_Events_Food-Truck-Fridays.jpg
END:VEVENT
BEGIN:VEVENT
DTSTART;TZID=UTC:20230812T180000
DTEND;TZID=UTC:20230812T190000
DTSTAMP:20260425T104742
CREATED:20230517T194510Z
LAST-MODIFIED:20230717T162217Z
UID:10000086-1691863200-1691866800@justintime.camp
SUMMARY:Train Rides
DESCRIPTION:Train loads in front of the office
URL:https://justintime.camp/event/train-rides/2023-08-12/
LOCATION:Just In Time Campground\, 8421 E Pierce Road\, Ithaca\, MI\, 48847\, United States
ATTACH;FMTTYPE=image/jpeg:https://justintime.camp/wp-content/uploads/2023/05/JITC_Events_Train-Rides.jpg
END:VEVENT
BEGIN:VEVENT
DTSTART;TZID=UTC:20230812T100000
DTEND;TZID=UTC:20230812T120000
DTSTAMP:20260425T104742
CREATED:20230517T194020Z
LAST-MODIFIED:20230717T162344Z
UID:10000016-1691834400-1691841600@justintime.camp
SUMMARY:Kids Crafts
DESCRIPTION:Located in the pavilion by the office
URL:https://justintime.camp/event/kids-crafts/2023-08-12/
LOCATION:Just In Time Campground\, 8421 E Pierce Road\, Ithaca\, MI\, 48847\, United States
ATTACH;FMTTYPE=image/jpeg:https://justintime.camp/wp-content/uploads/2023/05/JITC_Events_Kids-Crafts.jpg
END:VEVENT
BEGIN:VEVENT
DTSTART;TZID=UTC:20230811T170000
DTEND;TZID=UTC:20230811T210000
DTSTAMP:20260425T104742
CREATED:20230717T163007Z
LAST-MODIFIED:20230717T163007Z
UID:10000179-1691773200-1691787600@justintime.camp
SUMMARY:Food Truck Friday
DESCRIPTION:
URL:https://justintime.camp/event/food-truck-friday/2023-08-11/
LOCATION:Just In Time Campground\, 8421 E Pierce Road\, Ithaca\, MI\, 48847\, United States
ATTACH;FMTTYPE=image/jpeg:https://justintime.camp/wp-content/uploads/2023/07/JITC_Events_Food-Truck-Fridays.jpg
END:VEVENT
BEGIN:VEVENT
DTSTART;TZID=UTC:20230805T200000
DTEND;TZID=UTC:20230805T220000
DTSTAMP:20260425T104742
CREATED:20230517T210222Z
LAST-MODIFIED:20230717T153451Z
UID:10000156-1691265600-1691272800@justintime.camp
SUMMARY:Beach Party with iPod Rod - Luau Weekend
DESCRIPTION:Prize for best decorated lot
URL:https://justintime.camp/event/beach-party-with-ipod-rod-luau-weekend/
LOCATION:Just In Time Campground\, 8421 E Pierce Road\, Ithaca\, MI\, 48847\, United States
ATTACH;FMTTYPE=image/jpeg:https://justintime.camp/wp-content/uploads/2023/05/JITC_Events_Beach-Party-with-DJ-Luau-weekend.jpg
END:VEVENT
BEGIN:VEVENT
DTSTART;TZID=UTC:20230805T180000
DTEND;TZID=UTC:20230805T200000
DTSTAMP:20260425T104742
CREATED:20230717T154310Z
LAST-MODIFIED:20230717T154310Z
UID:10000164-1691258400-1691265600@justintime.camp
SUMMARY:Twisting Smiles Balloon Art - Luau Weekend
DESCRIPTION:
URL:https://justintime.camp/event/twisting-smiles-balloon-art-luau-weekend/
LOCATION:Just In Time Campground\, 8421 E Pierce Road\, Ithaca\, MI\, 48847\, United States
ATTACH;FMTTYPE=image/jpeg:https://justintime.camp/wp-content/uploads/2023/07/JITC_Events_Twisting-Smiles-Balloon-Art-Luau-Weekend.jpg
END:VEVENT
BEGIN:VEVENT
DTSTART;TZID=UTC:20230805T180000
DTEND;TZID=UTC:20230805T190000
DTSTAMP:20260425T104742
CREATED:20230517T194510Z
LAST-MODIFIED:20230717T162217Z
UID:10000085-1691258400-1691262000@justintime.camp
SUMMARY:Train Rides
DESCRIPTION:Train loads in front of the office
URL:https://justintime.camp/event/train-rides/2023-08-05/
LOCATION:Just In Time Campground\, 8421 E Pierce Road\, Ithaca\, MI\, 48847\, United States
ATTACH;FMTTYPE=image/jpeg:https://justintime.camp/wp-content/uploads/2023/05/JITC_Events_Train-Rides.jpg
END:VEVENT
BEGIN:VEVENT
DTSTART;TZID=UTC:20230805T170000
DTEND;TZID=UTC:20230805T190000
DTSTAMP:20260425T104742
CREATED:20230517T210055Z
LAST-MODIFIED:20230517T210055Z
UID:10000155-1691254800-1691262000@justintime.camp
SUMMARY:Pig Roast - Luau Weekend
DESCRIPTION:Please bring a dish to pass
URL:https://justintime.camp/event/pig-roast-luau-weekend/
LOCATION:Just In Time Campground\, 8421 E Pierce Road\, Ithaca\, MI\, 48847\, United States
ATTACH;FMTTYPE=image/jpeg:https://justintime.camp/wp-content/uploads/2023/05/JITC_Events_Pig-Roast-Luau-weekend.jpg
END:VEVENT
BEGIN:VEVENT
DTSTART;TZID=UTC:20230805T100000
DTEND;TZID=UTC:20230805T120000
DTSTAMP:20260425T104742
CREATED:20230517T194020Z
LAST-MODIFIED:20230717T162344Z
UID:10000015-1691229600-1691236800@justintime.camp
SUMMARY:Kids Crafts
DESCRIPTION:Located in the pavilion by the office
URL:https://justintime.camp/event/kids-crafts/2023-08-05/
LOCATION:Just In Time Campground\, 8421 E Pierce Road\, Ithaca\, MI\, 48847\, United States
ATTACH;FMTTYPE=image/jpeg:https://justintime.camp/wp-content/uploads/2023/05/JITC_Events_Kids-Crafts.jpg
END:VEVENT
BEGIN:VEVENT
DTSTART;TZID=UTC:20230804T170000
DTEND;TZID=UTC:20230804T210000
DTSTAMP:20260425T104742
CREATED:20230717T163007Z
LAST-MODIFIED:20230717T163007Z
UID:10000178-1691168400-1691182800@justintime.camp
SUMMARY:Food Truck Friday
DESCRIPTION:
URL:https://justintime.camp/event/food-truck-friday/2023-08-04/
LOCATION:Just In Time Campground\, 8421 E Pierce Road\, Ithaca\, MI\, 48847\, United States
ATTACH;FMTTYPE=image/jpeg:https://justintime.camp/wp-content/uploads/2023/07/JITC_Events_Food-Truck-Fridays.jpg
END:VEVENT
BEGIN:VEVENT
DTSTART;TZID=UTC:20230729T190000
DTEND;TZID=UTC:20230729T210000
DTSTAMP:20260425T104742
CREATED:20230517T205855Z
LAST-MODIFIED:20230717T153223Z
UID:10000154-1690657200-1690664400@justintime.camp
SUMMARY:Golf Cart Parade - Christmas in July
DESCRIPTION:Prizes for best decorated cart
URL:https://justintime.camp/event/golf-cart-parade-christmas-in-july/
LOCATION:Just In Time Campground\, 8421 E Pierce Road\, Ithaca\, MI\, 48847\, United States
ATTACH;FMTTYPE=image/jpeg:https://justintime.camp/wp-content/uploads/2023/05/JITC_Events_Golf-Cart-Parade-Christmas-in-July.jpg
END:VEVENT
BEGIN:VEVENT
DTSTART;TZID=UTC:20230729T180000
DTEND;TZID=UTC:20230729T190000
DTSTAMP:20260425T104742
CREATED:20230517T194510Z
LAST-MODIFIED:20230717T162217Z
UID:10000084-1690653600-1690657200@justintime.camp
SUMMARY:Train Rides
DESCRIPTION:Train loads in front of the office
URL:https://justintime.camp/event/train-rides/2023-07-29/
LOCATION:Just In Time Campground\, 8421 E Pierce Road\, Ithaca\, MI\, 48847\, United States
ATTACH;FMTTYPE=image/jpeg:https://justintime.camp/wp-content/uploads/2023/05/JITC_Events_Train-Rides.jpg
END:VEVENT
END:VCALENDAR