BEGIN:VCALENDAR
VERSION:2.0
PRODID:-//Just In Time Campground - ECPv6.15.15//NONSGML v1.0//EN
CALSCALE:GREGORIAN
METHOD:PUBLISH
X-WR-CALNAME:Just In Time Campground
X-ORIGINAL-URL:https://justintime.camp
X-WR-CALDESC:Events for Just In Time Campground
REFRESH-INTERVAL;VALUE=DURATION:PT1H
X-Robots-Tag:noindex
X-PUBLISHED-TTL:PT1H
BEGIN:VTIMEZONE
TZID:UTC
BEGIN:STANDARD
TZOFFSETFROM:+0000
TZOFFSETTO:+0000
TZNAME:UTC
DTSTART:20270101T000000
END:STANDARD
END:VTIMEZONE
BEGIN:VEVENT
DTSTART;TZID=UTC:20281013T170000
DTEND;TZID=UTC:20281013T210000
DTSTAMP:20260424T114740
CREATED:20231030T173616Z
LAST-MODIFIED:20231030T173711Z
UID:10000718-1855069200-1855083600@justintime.camp
SUMMARY:Food Truck Fridays
DESCRIPTION:Enjoy variety of food trucks.
URL:https://justintime.camp/event/food-truck-fridays/2028-10-13/
LOCATION:Just In Time Campground\, 8421 E Pierce Road\, Ithaca\, MI\, 48847\, United States
ATTACH;FMTTYPE=image/jpeg:https://justintime.camp/wp-content/uploads/2023/10/Food-truck.jpg
END:VEVENT
BEGIN:VEVENT
DTSTART;TZID=UTC:20281020T170000
DTEND;TZID=UTC:20281020T210000
DTSTAMP:20260424T114740
CREATED:20231030T173616Z
LAST-MODIFIED:20231030T173711Z
UID:10000720-1855674000-1855688400@justintime.camp
SUMMARY:Food Truck Fridays
DESCRIPTION:Enjoy variety of food trucks.
URL:https://justintime.camp/event/food-truck-fridays/2028-10-20/
LOCATION:Just In Time Campground\, 8421 E Pierce Road\, Ithaca\, MI\, 48847\, United States
ATTACH;FMTTYPE=image/jpeg:https://justintime.camp/wp-content/uploads/2023/10/Food-truck.jpg
END:VEVENT
BEGIN:VEVENT
DTSTART;TZID=UTC:20281027T170000
DTEND;TZID=UTC:20281027T210000
DTSTAMP:20260424T114740
CREATED:20231030T173616Z
LAST-MODIFIED:20231030T173711Z
UID:10000722-1856278800-1856293200@justintime.camp
SUMMARY:Food Truck Fridays
DESCRIPTION:Enjoy variety of food trucks.
URL:https://justintime.camp/event/food-truck-fridays/2028-10-27/
LOCATION:Just In Time Campground\, 8421 E Pierce Road\, Ithaca\, MI\, 48847\, United States
ATTACH;FMTTYPE=image/jpeg:https://justintime.camp/wp-content/uploads/2023/10/Food-truck.jpg
END:VEVENT
END:VCALENDAR